BEGIN:VCALENDAR
VERSION:2.0
PRODID:-//La Casa de Don Pedro - ECPv6.15.20//NONSGML v1.0//EN
CALSCALE:GREGORIAN
METHOD:PUBLISH
X-WR-CALNAME:La Casa de Don Pedro
X-ORIGINAL-URL:https://lacasadedonpedro.org
X-WR-CALDESC:Events for La Casa de Don Pedro
REFRESH-INTERVAL;VALUE=DURATION:PT1H
X-Robots-Tag:noindex
X-PUBLISHED-TTL:PT1H
BEGIN:VTIMEZONE
TZID:UTC
BEGIN:STANDARD
TZOFFSETFROM:+0000
TZOFFSETTO:+0000
TZNAME:UTC
DTSTART:20240101T000000
END:STANDARD
END:VTIMEZONE
BEGIN:VEVENT
DTSTART;TZID=UTC:20250911T170000
DTEND;TZID=UTC:20250911T180000
DTSTAMP:20260420T041004
CREATED:20250902T200933Z
LAST-MODIFIED:20250902T200933Z
UID:10000047-1757610000-1757613600@lacasadedonpedro.org
SUMMARY:Financial Foundations: Mastering Banking Basics
DESCRIPTION:
URL:https://lacasadedonpedro.org/event/financial-foundations-mastering-banking-basics-2/
LOCATION:Family Success Center I\, 23 Broadway\, Newark\, NJ\, 07104\, United States
CATEGORIES:Family Success Center
ATTACH;FMTTYPE=image/png:https://lacasadedonpedro.org/wp-content/uploads/2025/09/FSC-I-Financial-Foundations-English_Leslie-Texidor-Aleja.png
END:VEVENT
BEGIN:VEVENT
DTSTART;TZID=UTC:20250909T170000
DTEND;TZID=UTC:20250909T180000
DTSTAMP:20260420T041004
CREATED:20250902T200552Z
LAST-MODIFIED:20250902T200552Z
UID:10000046-1757437200-1757440800@lacasadedonpedro.org
SUMMARY:Financial Foundations: Mastering Banking Basics
DESCRIPTION:
URL:https://lacasadedonpedro.org/event/financial-foundations-mastering-banking-basics/
LOCATION:Family Success Center II\, 282 First Avenue\, Newark\, NJ\, United States
CATEGORIES:Family Success Center
ATTACH;FMTTYPE=image/png:https://lacasadedonpedro.org/wp-content/uploads/2025/09/FSC-II-Financial-foundations_-mastering-banki_Leslie-Texidor-Aleja.png
END:VEVENT
BEGIN:VEVENT
DTSTART;TZID=UTC:20250905T130000
DTEND;TZID=UTC:20250905T170000
DTSTAMP:20260420T041004
CREATED:20250902T200024Z
LAST-MODIFIED:20250902T200024Z
UID:10000045-1757077200-1757091600@lacasadedonpedro.org
SUMMARY:Sickle Cell Disease Awareness Health Fair
DESCRIPTION:  \nJoin us Friday\, September 5th from 1pm-5pm at 43 Broadway in Newark for a special health fair that brings awareness to Sickle Cell disease. See flyer for details.
URL:https://lacasadedonpedro.org/event/sickle-cell-disease-awareness-health-fair/
LOCATION:El Patio de La Casa\, 43 Broadway\, Newark\, NJ\, 07104\, United States
CATEGORIES:Family Success Center
ATTACH;FMTTYPE=image/png:https://lacasadedonpedro.org/wp-content/uploads/2025/09/Sickle-Call-Awareness-Fair-English_Leslie-Texidor-Aleja.png
END:VEVENT
BEGIN:VEVENT
DTSTART;TZID=UTC:20250821T160000
DTEND;TZID=UTC:20250821T190000
DTSTAMP:20260420T041004
CREATED:20250630T200541Z
LAST-MODIFIED:20250630T200541Z
UID:10000036-1755792000-1755802800@lacasadedonpedro.org
SUMMARY:Farmers Market
DESCRIPTION:La Casa de Don Pedro is excited to announce the return of our North Ward Farmers Market\, coming back to Newark’s Lower Broadway neighborhood starting July 17th! \nFeaturing fresh produce and goods at great prices along with local vendors and community resources\, you definitely don’t want to miss this! See flyer for details and mark your calendars!
URL:https://lacasadedonpedro.org/event/farmers-market/2025-08-21/
LOCATION:El Patio de La Casa\, 43 Broadway\, Newark\, NJ\, 07104\, United States
ATTACH;FMTTYPE=image/png:https://lacasadedonpedro.org/wp-content/uploads/2025/06/LCDP-2025-Farmers-Market-Web-Flyer-scaled.png
END:VEVENT
BEGIN:VEVENT
DTSTART;TZID=UTC:20250801T150000
DTEND;TZID=UTC:20250801T180000
DTSTAMP:20260420T041004
CREATED:20250710T154957Z
LAST-MODIFIED:20250723T153916Z
UID:10000043-1754060400-1754071200@lacasadedonpedro.org
SUMMARY:Preschool Enrollment Fair
DESCRIPTION:RESCHEDULED: Please be advised that this Friday’s Preschool Enrollment Fair has been rescheduled to Friday\, August 1st from 3pm-6pm.\n\n\n \n\n\nAre you looking for a Preschool program for your child (ages 0-5) in Newark? Did you know La Casa de Don Pedro offers FREE Head Start\, Early Head Start\, and Pre-K programs throughout Newark?\n\n\n\n\n\nStop by 202 First St. on Friday\, August 1st from 3pm-6pm for our Preschool Enrollment Fair and see why La Casa has been the best provider of Pre-K in Newark for over 45 years!\n\n\n\n\n\nAll who enroll their children at our fair will be entered in a raffle to receive exclusive prizes! See flyer for details and tell your friends and family!
URL:https://lacasadedonpedro.org/event/preschool-enrollment-fair/
LOCATION:202 First St\, Newark\, NJ\, 202 1st Street\, Newark\, NJ\, 07104\, United States
ATTACH;FMTTYPE=image/png:https://lacasadedonpedro.org/wp-content/uploads/2025/07/LCDP-Preschool-Enrollment-Fair-Flyer_Eng-1.png
END:VEVENT
BEGIN:VEVENT
DTSTART;TZID=UTC:20250723T090000
DTEND;TZID=UTC:20250723T150000
DTSTAMP:20260420T041004
CREATED:20250630T210054Z
LAST-MODIFIED:20250630T210054Z
UID:10000040-1753261200-1753282800@lacasadedonpedro.org
SUMMARY:Free Mammogram Screenings
DESCRIPTION:  \nPlease join us on July 23rd for a FREE Mammogram and Pap Smear Screening available for the community at El Patio de La Casa\, 43 Broadway (Parking available at 305 Broad St.) from 9am-3pm! See flyer for details.
URL:https://lacasadedonpedro.org/event/free-mammogram-screenings/
LOCATION:El Patio de La Casa\, 43 Broadway\, Newark\, NJ\, 07104\, United States
ATTACH;FMTTYPE=image/png:https://lacasadedonpedro.org/wp-content/uploads/2025/06/Mammogram-Screening-EngSpan_Leslie-Texidor-Aleja.png
END:VEVENT
BEGIN:VEVENT
DTSTART;TZID=UTC:20250717T160000
DTEND;TZID=UTC:20250717T190000
DTSTAMP:20260420T041004
CREATED:20250630T200541Z
LAST-MODIFIED:20250630T200541Z
UID:10000035-1752768000-1752778800@lacasadedonpedro.org
SUMMARY:Farmers Market
DESCRIPTION:La Casa de Don Pedro is excited to announce the return of our North Ward Farmers Market\, coming back to Newark’s Lower Broadway neighborhood starting July 17th! \nFeaturing fresh produce and goods at great prices along with local vendors and community resources\, you definitely don’t want to miss this! See flyer for details and mark your calendars!
URL:https://lacasadedonpedro.org/event/farmers-market/2025-07-17/
LOCATION:El Patio de La Casa\, 43 Broadway\, Newark\, NJ\, 07104\, United States
ATTACH;FMTTYPE=image/png:https://lacasadedonpedro.org/wp-content/uploads/2025/06/LCDP-2025-Farmers-Market-Web-Flyer-scaled.png
END:VEVENT
BEGIN:VEVENT
DTSTART;TZID=UTC:20250715T130000
DTEND;TZID=UTC:20250715T140000
DTSTAMP:20260420T041004
CREATED:20250630T210803Z
LAST-MODIFIED:20250630T210803Z
UID:10000042-1752584400-1752588000@lacasadedonpedro.org
SUMMARY:Free Produce Pop Up
DESCRIPTION:  \nFREE fresh produce pop up coming to La Casa July 15th! Come get fresh\, healthy produce on a first come\, first served basis at our Family Success Center II (282 First Ave\, Newark). See flyer for details.
URL:https://lacasadedonpedro.org/event/free-produce-pop-up/
LOCATION:Family Success Center II\, 282 First Avenue\, Newark\, NJ\, United States
CATEGORIES:Family Success Center
ATTACH;FMTTYPE=image/png:https://lacasadedonpedro.org/wp-content/uploads/2025/06/Pop-up-produce-shop-English_Leslie-Texidor-Aleja-2.png
END:VEVENT
BEGIN:VEVENT
DTSTART;TZID=UTC:20250710T110000
DTEND;TZID=UTC:20250710T130000
DTSTAMP:20260420T041004
CREATED:20250630T205443Z
LAST-MODIFIED:20250630T205506Z
UID:10000039-1752145200-1752152400@lacasadedonpedro.org
SUMMARY:Free Produce Pop Up
DESCRIPTION:FREE fresh produce pop ups coming to La Casa July 10th! Come get fresh\, healthy produce on a first come\, first served basis at our Family Success Center I (23 Broadway\, Newark). See flyer for details.
URL:https://lacasadedonpedro.org/event/26011/
LOCATION:Family Success Center I\, 23 Broadway\, Newark\, NJ\, 07104\, United States
CATEGORIES:Family Success Center
END:VEVENT
BEGIN:VEVENT
DTSTART;TZID=UTC:20250708T133000
DTEND;TZID=UTC:20250708T153000
DTSTAMP:20260420T041004
CREATED:20250630T210406Z
LAST-MODIFIED:20250630T210406Z
UID:10000041-1751981400-1751988600@lacasadedonpedro.org
SUMMARY:Foster Care Workshop
DESCRIPTION:Thinking about becoming a foster parent? Join us for a special workshop where we’ll teach you what you need to know to get started! See flyer for details.
URL:https://lacasadedonpedro.org/event/foster-care-workshop-2/
LOCATION:Family Success Center II\, 282 First Avenue\, Newark\, NJ\, United States
CATEGORIES:Family Success Center
ATTACH;FMTTYPE=image/png:https://lacasadedonpedro.org/wp-content/uploads/2025/06/Foster-Care-Workshop-English_Leslie-Texidor-Aleja-3.png
END:VEVENT
BEGIN:VEVENT
DTSTART;TZID=UTC:20250627T100000
DTEND;TZID=UTC:20250627T150000
DTSTAMP:20260420T041004
CREATED:20250612T203529Z
LAST-MODIFIED:20250612T203529Z
UID:10000033-1751018400-1751036400@lacasadedonpedro.org
SUMMARY:Community Health Clinic
DESCRIPTION:  \nJoin La Casa de Don Pedro on Friday\, June 27th from 10am-3pm at 23 Broadway for a FREE Community Health Clinic. Featuring physicians on site conducting exams and physicals\, blood work\, vaccinations\, and more\, this is a perfect opportunity to make sure you and your family are healthy! See flyer for more details and RSVP today at www.tinyurl.com/LaCasaFSCReg.
URL:https://lacasadedonpedro.org/event/community-health-clinic/
LOCATION:Family Success Center I\, 23 Broadway\, Newark\, NJ\, 07104\, United States
CATEGORIES:Family Success Center
ATTACH;FMTTYPE=image/png:https://lacasadedonpedro.org/wp-content/uploads/2025/06/LCDP-Community-Health-Clinic-Flyer_Eng.png
END:VEVENT
BEGIN:VEVENT
DTSTART;TZID=UTC:20250623T110000
DTEND;TZID=UTC:20250623T130000
DTSTAMP:20260420T041004
CREATED:20250520T180012Z
LAST-MODIFIED:20250520T180012Z
UID:10000030-1750676400-1750683600@lacasadedonpedro.org
SUMMARY:Job Preparation Workshop
DESCRIPTION:Looking to make a strong impression in your job search? Join us for this special informational session where you’ll learn resume tips\, interviewing techniques\, and more.
URL:https://lacasadedonpedro.org/event/job-preparation-workshop/
LOCATION:Family Success Center I\, 23 Broadway\, Newark\, NJ\, 07104\, United States
CATEGORIES:Family Success Center
ATTACH;FMTTYPE=image/png:https://lacasadedonpedro.org/wp-content/uploads/2025/05/Job-Informational-Session-English_Leslie-Texidor-Aleja.png
END:VEVENT
BEGIN:VEVENT
DTSTART;TZID=UTC:20250620T160000
DTEND;TZID=UTC:20250620T190000
DTSTAMP:20260420T041004
CREATED:20250520T154005Z
LAST-MODIFIED:20250618T192134Z
UID:10000026-1750435200-1750446000@lacasadedonpedro.org
SUMMARY:Juneteenth Celebration
DESCRIPTION:  \nCelebrate Juneteenth with La Casa de Don Pedro! See flyer for details and bring the family out!
URL:https://lacasadedonpedro.org/event/juneteenth-celebration/
LOCATION:El Patio de La Casa\, 43 Broadway\, Newark\, NJ\, 07104\, United States
CATEGORIES:Family Success Center
ATTACH;FMTTYPE=image/jpeg:https://lacasadedonpedro.org/wp-content/uploads/2025/05/Flyer.jpg
END:VEVENT
BEGIN:VEVENT
DTSTART;VALUE=DATE:20250619
DTEND;VALUE=DATE:20250620
DTSTAMP:20260420T041004
CREATED:20250612T204122Z
LAST-MODIFIED:20250612T204122Z
UID:10000034-1750291200-1750377599@lacasadedonpedro.org
SUMMARY:Juneteenth - All La Casa de Don Pedro Centers Are Closed
DESCRIPTION:
URL:https://lacasadedonpedro.org/event/juneteenth-all-la-casa-de-don-pedro-centers-are-closed/
LOCATION:NJ
END:VEVENT
BEGIN:VEVENT
DTSTART;TZID=UTC:20250613T153000
DTEND;TZID=UTC:20250613T173000
DTSTAMP:20260420T041004
CREATED:20250520T154919Z
LAST-MODIFIED:20250520T154919Z
UID:10000028-1749828600-1749835800@lacasadedonpedro.org
SUMMARY:Father's Day Luncheon (FSC II)
DESCRIPTION:Celebrate dad with us on Friday\, June 13th from 3:30pm-5:30pm at 282 First Ave.
URL:https://lacasadedonpedro.org/event/fathers-day-luncheon-fsc-ii/
LOCATION:Family Success Center II\, 282 First Avenue\, Newark\, NJ\, United States
CATEGORIES:Family Success Center
ATTACH;FMTTYPE=image/png:https://lacasadedonpedro.org/wp-content/uploads/2025/05/Fatherhood-Workshop-Luncheon-English_Leslie-Texidor-Aleja.png
END:VEVENT
BEGIN:VEVENT
DTSTART;TZID=UTC:20250612T110000
DTEND;TZID=UTC:20250612T130000
DTSTAMP:20260420T041004
CREATED:20250520T154556Z
LAST-MODIFIED:20250520T154953Z
UID:10000027-1749726000-1749733200@lacasadedonpedro.org
SUMMARY:Father's Day Brunch (FSC I)
DESCRIPTION:  \nCelebrate dad with us on Thursday\, June 12th from 11am-1pm at 23 Broadway.
URL:https://lacasadedonpedro.org/event/fathers-day-brunch/
LOCATION:Family Success Center I\, 23 Broadway\, Newark\, NJ\, 07104\, United States
CATEGORIES:Family Success Center
ATTACH;FMTTYPE=image/png:https://lacasadedonpedro.org/wp-content/uploads/2025/05/Fatherhood-workshop-English_Leslie-Texidor-Aleja.png
END:VEVENT
BEGIN:VEVENT
DTSTART;TZID=UTC:20250611T130000
DTEND;TZID=UTC:20250611T143000
DTSTAMP:20260420T041004
CREATED:20250520T175244Z
LAST-MODIFIED:20250520T175244Z
UID:10000029-1749646800-1749652200@lacasadedonpedro.org
SUMMARY:Free Produce Giveaway (FSC II)
DESCRIPTION:FREE fresh produce pop up\, first come\, first served!
URL:https://lacasadedonpedro.org/event/free-produce-giveaway-fsc-ii/
LOCATION:Family Success Center II\, 282 First Avenue\, Newark\, NJ\, United States
CATEGORIES:Family Success Center
ATTACH;FMTTYPE=image/png:https://lacasadedonpedro.org/wp-content/uploads/2025/05/Pop-up-produce-shop-English-282-First-ave_Leslie-Texidor-Aleja.png
END:VEVENT
BEGIN:VEVENT
DTSTART;TZID=UTC:20250605T123000
DTEND;TZID=UTC:20250605T143000
DTSTAMP:20260420T041004
CREATED:20250520T153600Z
LAST-MODIFIED:20250520T153600Z
UID:10000025-1749126600-1749133800@lacasadedonpedro.org
SUMMARY:Pride Resource Fair
DESCRIPTION:As #PrideMonth2025 quickly approaches\, La Casa de Don Pedro would like to announce this year’s Pride Resource Fair. Join us on Thursday\, June 5th from 12:30-2:30pm at 23 Broadway for a day of celebration and self care! See flyer for details and register for free at www.tinyurl.com/LaCasaFSCReg.
URL:https://lacasadedonpedro.org/event/pride-resource-fair/
LOCATION:Family Success Center I\, 23 Broadway\, Newark\, NJ\, 07104\, United States
CATEGORIES:Family Success Center
ATTACH;FMTTYPE=image/png:https://lacasadedonpedro.org/wp-content/uploads/2025/05/LCDP-Pride-Resource-Fair-Flyer_Eng.png
END:VEVENT
BEGIN:VEVENT
DTSTART;TZID=UTC:20250603T100000
DTEND;TZID=UTC:20250603T120000
DTSTAMP:20260420T041004
CREATED:20250520T183616Z
LAST-MODIFIED:20250520T183616Z
UID:10000032-1748944800-1748952000@lacasadedonpedro.org
SUMMARY:Free Produce Giveaway (FSC I)
DESCRIPTION:FREE fresh produce pop up\, first come\, first served!
URL:https://lacasadedonpedro.org/event/free-produce-giveaway-fsc-i/
LOCATION:Family Success Center I\, 23 Broadway\, Newark\, NJ\, 07104\, United States
CATEGORIES:Family Success Center
ATTACH;FMTTYPE=image/png:https://lacasadedonpedro.org/wp-content/uploads/2025/05/Pop-Up-produce-shop-English_Leslie-Texidor-Aleja-4.png
END:VEVENT
BEGIN:VEVENT
DTSTART;TZID=UTC:20250516T110000
DTEND;TZID=UTC:20250516T140000
DTSTAMP:20260420T041004
CREATED:20250502T135432Z
LAST-MODIFIED:20250502T135432Z
UID:10000024-1747393200-1747404000@lacasadedonpedro.org
SUMMARY:Health and Wellness Fair
DESCRIPTION:    \nPut your wellbeing first at our Health and Wellness Fair on Friday\, May 16th from 11am-2pm at 23 Broadway in Newark! See flyer for details and RSVP for free today at www.tinyurl.com/LaCasaFSCReg.
URL:https://lacasadedonpedro.org/event/health-and-wellness-fair/
LOCATION:Family Success Center I\, 23 Broadway\, Newark\, NJ\, 07104\, United States
CATEGORIES:Family Success Center
ATTACH;FMTTYPE=image/png:https://lacasadedonpedro.org/wp-content/uploads/2025/05/Health-Wellness-Fair_Leslie-Texidor-Aleja.png
END:VEVENT
BEGIN:VEVENT
DTSTART;TZID=UTC:20250508T180000
DTEND;TZID=UTC:20250508T193000
DTSTAMP:20260420T041004
CREATED:20250502T134607Z
LAST-MODIFIED:20250502T134607Z
UID:10000023-1746727200-1746732600@lacasadedonpedro.org
SUMMARY:Expungement Seminar
DESCRIPTION:  \nDo you or someone you know have a criminal record in New Jersey that you’d like to have removed? Join us on Thursday\, May 8th from 6pm-7:30pm at 23 Broadway in Newark for a special seminar where we’ll explain the expungement process in the Garden State.
URL:https://lacasadedonpedro.org/event/expungement-seminar/
LOCATION:Family Success Center I\, 23 Broadway\, Newark\, NJ\, 07104\, United States
CATEGORIES:Family Success Center
ATTACH;FMTTYPE=image/png:https://lacasadedonpedro.org/wp-content/uploads/2025/05/7b59a887-e4f4-4135-abca-faaeea969aca.png
END:VEVENT
BEGIN:VEVENT
DTSTART;TZID=UTC:20250505T150000
DTEND;TZID=UTC:20250505T163000
DTSTAMP:20260420T041004
CREATED:20250502T133348Z
LAST-MODIFIED:20250502T133348Z
UID:10000022-1746457200-1746462600@lacasadedonpedro.org
SUMMARY:Listen & Create Activity Day
DESCRIPTION:Join us for a special workshop meant to help develop your child’s active listening and creativity skills on Monday\, May 5th from 3:30pm-4:30pm at 282 First Ave in Newark!
URL:https://lacasadedonpedro.org/event/listen-create-activity-day/
LOCATION:Family Success Center II\, 282 First Avenue\, Newark\, NJ\, United States
CATEGORIES:Family Success Center
ATTACH;FMTTYPE=image/png:https://lacasadedonpedro.org/wp-content/uploads/2025/05/Listen-Create-Activities-English_Leslie-Texidor-Aleja-1.png
END:VEVENT
BEGIN:VEVENT
DTSTART;TZID=UTC:20250503T123000
DTEND;TZID=UTC:20250503T150000
DTSTAMP:20260420T041004
CREATED:20250502T132256Z
LAST-MODIFIED:20250502T132256Z
UID:10000021-1746275400-1746284400@lacasadedonpedro.org
SUMMARY:Mother's Day Celebration
DESCRIPTION:     \n  \nIt’s never too early to celebrate mothers! Join us this Saturday\, May 3rd from 12:30pm-3pm for a little pre-Mother’s Day Celebration at La Casa de Don Pedro featuring a tasty lunch\, prizes\, and more! 23 Broadway\, Newark\, NJ. See flyer for more info.
URL:https://lacasadedonpedro.org/event/mothers-day-celebration/
LOCATION:Family Success Center I\, 23 Broadway\, Newark\, NJ\, 07104\, United States
CATEGORIES:Family Success Center
ATTACH;FMTTYPE=image/png:https://lacasadedonpedro.org/wp-content/uploads/2025/05/Mothers-Day-English.png
END:VEVENT
BEGIN:VEVENT
DTSTART;TZID=UTC:20250428T110000
DTEND;TZID=UTC:20250428T130000
DTSTAMP:20260420T041004
CREATED:20250331T200702Z
LAST-MODIFIED:20250331T200702Z
UID:10000018-1745838000-1745845200@lacasadedonpedro.org
SUMMARY:Recognizing Child Abuse & Neglect Workshop
DESCRIPTION:
URL:https://lacasadedonpedro.org/event/recognizing-child-abuse-neglect-workshop/
LOCATION:Family Success Center I\, 23 Broadway\, Newark\, NJ\, 07104\, United States
CATEGORIES:Family Success Center
ATTACH;FMTTYPE=image/png:https://lacasadedonpedro.org/wp-content/uploads/2025/03/Recognizing-Child-abuse-neglect-english_Leslie-Texidor-Aleja.png
END:VEVENT
BEGIN:VEVENT
DTSTART;TZID=UTC:20250425T160000
DTEND;TZID=UTC:20250425T190000
DTSTAMP:20260420T041004
CREATED:20250331T195410Z
LAST-MODIFIED:20250331T195410Z
UID:10000015-1745596800-1745607600@lacasadedonpedro.org
SUMMARY:Autism Awareness Festival
DESCRIPTION:Please join us for a special Autism Awareness Festival on Friday\, April 25th from 4pm-7pm at El Patio de La Casa (43 Broadway\, Newark\, NJ) featuring… \n\nPetting Zoo\nSensory Activities\nInfo/Resources for Parents and Caregivers\nLight Refreshments and Treats\n\nRegister today for FREE at tinyurl.com/LaCasaFSCReg. \nFree parking available at 305 Broad St\, Newark\, NJ. \n 
URL:https://lacasadedonpedro.org/event/autism-awareness-festival/
LOCATION:El Patio de La Casa\, 43 Broadway\, Newark\, NJ\, 07104\, United States
CATEGORIES:Family Success Center
ATTACH;FMTTYPE=image/png:https://lacasadedonpedro.org/wp-content/uploads/2025/03/Autism-Awareness-English-2025_Leslie-Texidor-Aleja.png
END:VEVENT
BEGIN:VEVENT
DTSTART;TZID=UTC:20250423T083000
DTEND;TZID=UTC:20250423T123000
DTSTAMP:20260420T041004
CREATED:20250331T200444Z
LAST-MODIFIED:20250331T200444Z
UID:10000017-1745397000-1745411400@lacasadedonpedro.org
SUMMARY:Free Youth Dental Clinic
DESCRIPTION:Do you have a child (17 & under) in need of a dental check up\, cleaning\, or referral? Come to La Casa de Don Pedro’s FREE Dental Clinic on Wednesday\, April 23rd from 8:30am – 12:30pm at 23 Broadway in Newark! Registration required by calling 973-483-2703 by April 11th. See flyer for details.
URL:https://lacasadedonpedro.org/event/free-youth-dental-clinic/
LOCATION:Family Success Center I\, 23 Broadway\, Newark\, NJ\, 07104\, United States
CATEGORIES:Family Success Center
ATTACH;FMTTYPE=image/png:https://lacasadedonpedro.org/wp-content/uploads/2025/03/LCDP-Dental-Clinic-Flyer-1_Leslie-Texidor-Aleja.png
END:VEVENT
BEGIN:VEVENT
DTSTART;TZID=UTC:20250411T133000
DTEND;TZID=UTC:20250411T150000
DTSTAMP:20260420T041004
CREATED:20250331T204621Z
LAST-MODIFIED:20250331T204621Z
UID:10000020-1744378200-1744383600@lacasadedonpedro.org
SUMMARY:Foster Care Workshop
DESCRIPTION:
URL:https://lacasadedonpedro.org/event/foster-care-workshop/
LOCATION:Family Success Center II\, 282 First Avenue\, Newark\, NJ\, United States
CATEGORIES:Family Success Center
ATTACH;FMTTYPE=image/png:https://lacasadedonpedro.org/wp-content/uploads/2025/03/Foster-Care-Workshop-English_Leslie-Texidor-Aleja.png
END:VEVENT
BEGIN:VEVENT
DTSTART;TZID=UTC:20250411T110000
DTEND;TZID=UTC:20250411T130000
DTSTAMP:20260420T041004
CREATED:20250331T200029Z
LAST-MODIFIED:20250331T200029Z
UID:10000016-1744369200-1744376400@lacasadedonpedro.org
SUMMARY:Black Maternal Health Workshop
DESCRIPTION:
URL:https://lacasadedonpedro.org/event/black-maternal-health-workshop/
LOCATION:Family Success Center I\, 23 Broadway\, Newark\, NJ\, 07104\, United States
CATEGORIES:Family Success Center
ATTACH;FMTTYPE=image/png:https://lacasadedonpedro.org/wp-content/uploads/2025/03/Black-Maternal-health-English_Leslie-Texidor-Aleja.png
END:VEVENT
BEGIN:VEVENT
DTSTART;TZID=UTC:20250403T100000
DTEND;TZID=UTC:20250403T120000
DTSTAMP:20260420T041004
CREATED:20250331T200911Z
LAST-MODIFIED:20250331T200911Z
UID:10000019-1743674400-1743681600@lacasadedonpedro.org
SUMMARY:Child Abuse Prevention Workshop
DESCRIPTION:
URL:https://lacasadedonpedro.org/event/child-abuse-prevention-workshop/
LOCATION:Family Success Center II\, 282 First Avenue\, Newark\, NJ\, United States
CATEGORIES:Family Success Center
ATTACH;FMTTYPE=image/png:https://lacasadedonpedro.org/wp-content/uploads/2025/03/Child-Abuse-Prevention-Workshop-English_Leslie-Texidor-Aleja.png
END:VEVENT
BEGIN:VEVENT
DTSTART;TZID=UTC:20250331T100000
DTEND;TZID=UTC:20250331T113000
DTSTAMP:20260420T041004
CREATED:20250303T174006Z
LAST-MODIFIED:20250303T174006Z
UID:10000011-1743415200-1743420600@lacasadedonpedro.org
SUMMARY:Job Readiness Workshop
DESCRIPTION:
URL:https://lacasadedonpedro.org/event/job-readiness-workshop/
LOCATION:39 Broadway\, 39 Broadway\, Newark\, NJ\, United States
CATEGORIES:Family Success Center
ATTACH;FMTTYPE=image/png:https://lacasadedonpedro.org/wp-content/uploads/2025/03/Job-Readiness-Presentation-English-3-2025.png
END:VEVENT
END:VCALENDAR