BEGIN:VCALENDAR
VERSION:2.0
PRODID:-//La Casa de Don Pedro - ECPv6.15.20//NONSGML v1.0//EN
CALSCALE:GREGORIAN
METHOD:PUBLISH
X-WR-CALNAME:La Casa de Don Pedro
X-ORIGINAL-URL:https://lacasadedonpedro.org
X-WR-CALDESC:Events for La Casa de Don Pedro
REFRESH-INTERVAL;VALUE=DURATION:PT1H
X-Robots-Tag:noindex
X-PUBLISHED-TTL:PT1H
BEGIN:VTIMEZONE
TZID:UTC
BEGIN:STANDARD
TZOFFSETFROM:+0000
TZOFFSETTO:+0000
TZNAME:UTC
DTSTART:20240101T000000
END:STANDARD
END:VTIMEZONE
BEGIN:VEVENT
DTSTART;TZID=UTC:20251124T150000
DTEND;TZID=UTC:20251124T163000
DTSTAMP:20260420T142624
CREATED:20251027T190154Z
LAST-MODIFIED:20251027T190154Z
UID:10000062-1763996400-1764001800@lacasadedonpedro.org
SUMMARY:Homework Club
DESCRIPTION:Join us for a fun\, supportive space where kids learn\, work on homework\, and grow together!
URL:https://lacasadedonpedro.org/event/homework-club-2/
LOCATION:Family Success Center II\, 282 First Avenue\, Newark\, NJ\, United States
CATEGORIES:Family Success Center
ATTACH;FMTTYPE=image/png:https://lacasadedonpedro.org/wp-content/uploads/2025/10/Homework-club-English_Leslie-Texidor-Aleja-1.png
END:VEVENT
BEGIN:VEVENT
DTSTART;TZID=UTC:20251125T170000
DTEND;TZID=UTC:20251125T180000
DTSTAMP:20260420T142624
CREATED:20251027T185758Z
LAST-MODIFIED:20251027T185758Z
UID:10000061-1764090000-1764093600@lacasadedonpedro.org
SUMMARY:Credit Confidence Workshop
DESCRIPTION:  \nLearn how to build strong credit and secure your financial future at our Credit Confidence Workshop!
URL:https://lacasadedonpedro.org/event/credit-confidence-workshop/
LOCATION:Family Success Center II\, 282 First Avenue\, Newark\, NJ\, United States
CATEGORIES:Family Success Center
ATTACH;FMTTYPE=image/png:https://lacasadedonpedro.org/wp-content/uploads/2025/10/FSC-II-Credit-Confidence-Workshop-English_Leslie-Texidor-Aleja.png
END:VEVENT
BEGIN:VEVENT
DTSTART;TZID=UTC:20251210T110000
DTEND;TZID=UTC:20251210T123000
DTSTAMP:20260420T142624
CREATED:20251209T192844Z
LAST-MODIFIED:20251209T192844Z
UID:10000064-1765364400-1765369800@lacasadedonpedro.org
SUMMARY:Safety in the Home Workshop
DESCRIPTION: 
URL:https://lacasadedonpedro.org/event/safety-in-the-home-workshop/
LOCATION:Family Success Center I\, 23 Broadway\, Newark\, NJ\, 07104\, United States
CATEGORIES:Family Success Center
ATTACH;FMTTYPE=image/png:https://lacasadedonpedro.org/wp-content/uploads/2025/12/SAFETY-IN-THE-HOME-eng_Leslie-Texidor-Aleja.png
END:VEVENT
BEGIN:VEVENT
DTSTART;TZID=UTC:20251211T110000
DTEND;TZID=UTC:20251211T123000
DTSTAMP:20260420T142624
CREATED:20251209T193159Z
LAST-MODIFIED:20251209T193159Z
UID:10000065-1765450800-1765456200@lacasadedonpedro.org
SUMMARY:Coping Techniques for the Holidays
DESCRIPTION:
URL:https://lacasadedonpedro.org/event/coping-techniques-for-the-holidays/
LOCATION:Family Success Center I\, 23 Broadway\, Newark\, NJ\, 07104\, United States
CATEGORIES:Family Success Center
ATTACH;FMTTYPE=image/png:https://lacasadedonpedro.org/wp-content/uploads/2025/12/Coping-Techniques-for-the-holidays-ENG_Leslie-Texidor-Aleja.png
END:VEVENT
BEGIN:VEVENT
DTSTART;TZID=UTC:20251216T170000
DTEND;TZID=UTC:20251216T180000
DTSTAMP:20260420T142624
CREATED:20251209T193747Z
LAST-MODIFIED:20251209T193747Z
UID:10000066-1765904400-1765908000@lacasadedonpedro.org
SUMMARY:Debt Reduction Blueprint Workshop
DESCRIPTION:
URL:https://lacasadedonpedro.org/event/debt-reduction-blueprint-workshop/
LOCATION:Family Success Center II\, 282 First Avenue\, Newark\, NJ\, United States
CATEGORIES:Family Success Center
ATTACH;FMTTYPE=image/png:https://lacasadedonpedro.org/wp-content/uploads/2025/12/FSC-II-debt-reduction-blue-print_-your-guide_Leslie-Texidor-Aleja.png
END:VEVENT
BEGIN:VEVENT
DTSTART;TZID=UTC:20251217T110000
DTEND;TZID=UTC:20251217T120000
DTSTAMP:20260420T142624
CREATED:20251209T193918Z
LAST-MODIFIED:20251209T193918Z
UID:10000067-1765969200-1765972800@lacasadedonpedro.org
SUMMARY:Foster Care Workshop
DESCRIPTION:
URL:https://lacasadedonpedro.org/event/foster-care-workshop-4/
LOCATION:Family Success Center II\, 282 First Avenue\, Newark\, NJ\, United States
CATEGORIES:Family Success Center
ATTACH;FMTTYPE=image/png:https://lacasadedonpedro.org/wp-content/uploads/2025/12/Foster-care-workshop-eng_Leslie-Texidor-Aleja-1.png
END:VEVENT
BEGIN:VEVENT
DTSTART;TZID=UTC:20260108T173000
DTEND;TZID=UTC:20260108T183000
DTSTAMP:20260420T142624
CREATED:20260105T204103Z
LAST-MODIFIED:20260105T204103Z
UID:10000073-1767893400-1767897000@lacasadedonpedro.org
SUMMARY:Winter Family Arts & Crafts
DESCRIPTION:Join us for Winter Family Arts & Crafts! Enjoy a fun\, creative day making seasonal projects together.
URL:https://lacasadedonpedro.org/event/winter-family-arts-crafts/
LOCATION:Family Success Center I\, 23 Broadway\, Newark\, NJ\, 07104\, United States
CATEGORIES:Family Success Center
ATTACH;FMTTYPE=image/png:https://lacasadedonpedro.org/wp-content/uploads/2026/01/Winter-Family-Arts-Crafts-ENG_Leslie-Texidor-Aleja.png
END:VEVENT
BEGIN:VEVENT
DTSTART;TZID=UTC:20260112T110000
DTEND;TZID=UTC:20260112T130000
DTSTAMP:20260420T142624
CREATED:20260105T201952Z
LAST-MODIFIED:20260105T201952Z
UID:10000069-1768215600-1768222800@lacasadedonpedro.org
SUMMARY:Maternal Health Workshop
DESCRIPTION:Join our Maternal Health Workshop! Learn key tips for a healthy pregnancy\, postpartum care\, and newborn wellbeing.
URL:https://lacasadedonpedro.org/event/maternal-health-workshop/
LOCATION:Family Success Center II\, 282 First Avenue\, Newark\, NJ\, United States
CATEGORIES:Family Success Center
ATTACH;FMTTYPE=image/png:https://lacasadedonpedro.org/wp-content/uploads/2026/01/maternal-health-workshop-engl_Leslie-Texidor-Aleja.png
END:VEVENT
BEGIN:VEVENT
DTSTART;TZID=UTC:20260115T110000
DTEND;TZID=UTC:20260115T123000
DTSTAMP:20260420T142624
CREATED:20260105T202316Z
LAST-MODIFIED:20260105T202316Z
UID:10000070-1768474800-1768480200@lacasadedonpedro.org
SUMMARY:Resume Writing Workshop
DESCRIPTION:Upgrade your job search with La Casa de Don Pedro’s Career Counselor.
URL:https://lacasadedonpedro.org/event/resume-writing-workshop/
LOCATION:Family Success Center II\, 282 First Avenue\, Newark\, NJ\, United States
CATEGORIES:Family Success Center
ATTACH;FMTTYPE=image/png:https://lacasadedonpedro.org/wp-content/uploads/2026/01/RESUME-WRITING-ENGL_Leslie-Texidor-Aleja.png
END:VEVENT
BEGIN:VEVENT
DTSTART;TZID=UTC:20260115T173000
DTEND;TZID=UTC:20260115T190000
DTSTAMP:20260420T142624
CREATED:20260105T203856Z
LAST-MODIFIED:20260105T203856Z
UID:10000072-1768498200-1768503600@lacasadedonpedro.org
SUMMARY:Martin Luther King Jr. Celebration
DESCRIPTION:Celebrate the legacy of Dr. Martin Luther King Jr. Join us for a day of reflection\, community\, and inspiration.
URL:https://lacasadedonpedro.org/event/martin-luther-king-jr-celebration/
LOCATION:Family Success Center I\, 23 Broadway\, Newark\, NJ\, 07104\, United States
CATEGORIES:Family Success Center
ATTACH;FMTTYPE=image/png:https://lacasadedonpedro.org/wp-content/uploads/2026/01/Martin-Luther-King-JR.-English_Leslie-Texidor-Aleja-1.png
END:VEVENT
BEGIN:VEVENT
DTSTART;TZID=UTC:20260116T150000
DTEND;TZID=UTC:20260116T163000
DTSTAMP:20260420T142624
CREATED:20260105T204830Z
LAST-MODIFIED:20260105T204830Z
UID:10000074-1768575600-1768581000@lacasadedonpedro.org
SUMMARY:Martin Luther King Jr. Celebration
DESCRIPTION:Celebrate the legacy of Dr. Martin Luther King Jr. Join us for a day of reflection\, community\, and inspiration.
URL:https://lacasadedonpedro.org/event/martin-luther-king-jr-celebration-2/
LOCATION:Family Success Center II\, 282 First Avenue\, Newark\, NJ\, United States
CATEGORIES:Family Success Center
ATTACH;FMTTYPE=image/png:https://lacasadedonpedro.org/wp-content/uploads/2026/01/Martin-Luther-King-JR.-English_Leslie-Texidor-Aleja.png
END:VEVENT
END:VCALENDAR