BEGIN:VCALENDAR
VERSION:2.0
PRODID:-//La Casa de Don Pedro - ECPv6.15.20//NONSGML v1.0//EN
CALSCALE:GREGORIAN
METHOD:PUBLISH
X-WR-CALNAME:La Casa de Don Pedro
X-ORIGINAL-URL:https://lacasadedonpedro.org
X-WR-CALDESC:Events for La Casa de Don Pedro
REFRESH-INTERVAL;VALUE=DURATION:PT1H
X-Robots-Tag:noindex
X-PUBLISHED-TTL:PT1H
BEGIN:VTIMEZONE
TZID:UTC
BEGIN:STANDARD
TZOFFSETFROM:+0000
TZOFFSETTO:+0000
TZNAME:UTC
DTSTART:20240101T000000
END:STANDARD
END:VTIMEZONE
BEGIN:VEVENT
DTSTART;TZID=UTC:20250717T160000
DTEND;TZID=UTC:20250717T190000
DTSTAMP:20260419T183042
CREATED:20250630T200541Z
LAST-MODIFIED:20250630T200541Z
UID:10000035-1752768000-1752778800@lacasadedonpedro.org
SUMMARY:Farmers Market
DESCRIPTION:La Casa de Don Pedro is excited to announce the return of our North Ward Farmers Market\, coming back to Newark’s Lower Broadway neighborhood starting July 17th! \nFeaturing fresh produce and goods at great prices along with local vendors and community resources\, you definitely don’t want to miss this! See flyer for details and mark your calendars!
URL:https://lacasadedonpedro.org/event/farmers-market/2025-07-17/
LOCATION:El Patio de La Casa\, 43 Broadway\, Newark\, NJ\, 07104\, United States
ATTACH;FMTTYPE=image/png:https://lacasadedonpedro.org/wp-content/uploads/2025/06/LCDP-2025-Farmers-Market-Web-Flyer-scaled.png
END:VEVENT
BEGIN:VEVENT
DTSTART;TZID=UTC:20250723T090000
DTEND;TZID=UTC:20250723T150000
DTSTAMP:20260419T183042
CREATED:20250630T210054Z
LAST-MODIFIED:20250630T210054Z
UID:10000040-1753261200-1753282800@lacasadedonpedro.org
SUMMARY:Free Mammogram Screenings
DESCRIPTION:  \nPlease join us on July 23rd for a FREE Mammogram and Pap Smear Screening available for the community at El Patio de La Casa\, 43 Broadway (Parking available at 305 Broad St.) from 9am-3pm! See flyer for details.
URL:https://lacasadedonpedro.org/event/free-mammogram-screenings/
LOCATION:El Patio de La Casa\, 43 Broadway\, Newark\, NJ\, 07104\, United States
ATTACH;FMTTYPE=image/png:https://lacasadedonpedro.org/wp-content/uploads/2025/06/Mammogram-Screening-EngSpan_Leslie-Texidor-Aleja.png
END:VEVENT
BEGIN:VEVENT
DTSTART;TZID=UTC:20250801T150000
DTEND;TZID=UTC:20250801T180000
DTSTAMP:20260419T183042
CREATED:20250710T154957Z
LAST-MODIFIED:20250723T153916Z
UID:10000043-1754060400-1754071200@lacasadedonpedro.org
SUMMARY:Preschool Enrollment Fair
DESCRIPTION:RESCHEDULED: Please be advised that this Friday’s Preschool Enrollment Fair has been rescheduled to Friday\, August 1st from 3pm-6pm.\n\n\n \n\n\nAre you looking for a Preschool program for your child (ages 0-5) in Newark? Did you know La Casa de Don Pedro offers FREE Head Start\, Early Head Start\, and Pre-K programs throughout Newark?\n\n\n\n\n\nStop by 202 First St. on Friday\, August 1st from 3pm-6pm for our Preschool Enrollment Fair and see why La Casa has been the best provider of Pre-K in Newark for over 45 years!\n\n\n\n\n\nAll who enroll their children at our fair will be entered in a raffle to receive exclusive prizes! See flyer for details and tell your friends and family!
URL:https://lacasadedonpedro.org/event/preschool-enrollment-fair/
LOCATION:202 First St\, Newark\, NJ\, 202 1st Street\, Newark\, NJ\, 07104\, United States
ATTACH;FMTTYPE=image/png:https://lacasadedonpedro.org/wp-content/uploads/2025/07/LCDP-Preschool-Enrollment-Fair-Flyer_Eng-1.png
END:VEVENT
BEGIN:VEVENT
DTSTART;TZID=UTC:20250821T160000
DTEND;TZID=UTC:20250821T190000
DTSTAMP:20260419T183042
CREATED:20250630T200541Z
LAST-MODIFIED:20250630T200541Z
UID:10000036-1755792000-1755802800@lacasadedonpedro.org
SUMMARY:Farmers Market
DESCRIPTION:La Casa de Don Pedro is excited to announce the return of our North Ward Farmers Market\, coming back to Newark’s Lower Broadway neighborhood starting July 17th! \nFeaturing fresh produce and goods at great prices along with local vendors and community resources\, you definitely don’t want to miss this! See flyer for details and mark your calendars!
URL:https://lacasadedonpedro.org/event/farmers-market/2025-08-21/
LOCATION:El Patio de La Casa\, 43 Broadway\, Newark\, NJ\, 07104\, United States
ATTACH;FMTTYPE=image/png:https://lacasadedonpedro.org/wp-content/uploads/2025/06/LCDP-2025-Farmers-Market-Web-Flyer-scaled.png
END:VEVENT
BEGIN:VEVENT
DTSTART;TZID=UTC:20250905T130000
DTEND;TZID=UTC:20250905T170000
DTSTAMP:20260419T183042
CREATED:20250902T200024Z
LAST-MODIFIED:20250902T200024Z
UID:10000045-1757077200-1757091600@lacasadedonpedro.org
SUMMARY:Sickle Cell Disease Awareness Health Fair
DESCRIPTION:  \nJoin us Friday\, September 5th from 1pm-5pm at 43 Broadway in Newark for a special health fair that brings awareness to Sickle Cell disease. See flyer for details.
URL:https://lacasadedonpedro.org/event/sickle-cell-disease-awareness-health-fair/
LOCATION:El Patio de La Casa\, 43 Broadway\, Newark\, NJ\, 07104\, United States
CATEGORIES:Family Success Center
ATTACH;FMTTYPE=image/png:https://lacasadedonpedro.org/wp-content/uploads/2025/09/Sickle-Call-Awareness-Fair-English_Leslie-Texidor-Aleja.png
END:VEVENT
BEGIN:VEVENT
DTSTART;TZID=UTC:20250909T170000
DTEND;TZID=UTC:20250909T180000
DTSTAMP:20260419T183042
CREATED:20250902T200552Z
LAST-MODIFIED:20250902T200552Z
UID:10000046-1757437200-1757440800@lacasadedonpedro.org
SUMMARY:Financial Foundations: Mastering Banking Basics
DESCRIPTION:
URL:https://lacasadedonpedro.org/event/financial-foundations-mastering-banking-basics/
LOCATION:Family Success Center II\, 282 First Avenue\, Newark\, NJ\, United States
CATEGORIES:Family Success Center
ATTACH;FMTTYPE=image/png:https://lacasadedonpedro.org/wp-content/uploads/2025/09/FSC-II-Financial-foundations_-mastering-banki_Leslie-Texidor-Aleja.png
END:VEVENT
BEGIN:VEVENT
DTSTART;TZID=UTC:20250911T170000
DTEND;TZID=UTC:20250911T180000
DTSTAMP:20260419T183042
CREATED:20250902T200933Z
LAST-MODIFIED:20250902T200933Z
UID:10000047-1757610000-1757613600@lacasadedonpedro.org
SUMMARY:Financial Foundations: Mastering Banking Basics
DESCRIPTION:
URL:https://lacasadedonpedro.org/event/financial-foundations-mastering-banking-basics-2/
LOCATION:Family Success Center I\, 23 Broadway\, Newark\, NJ\, 07104\, United States
CATEGORIES:Family Success Center
ATTACH;FMTTYPE=image/png:https://lacasadedonpedro.org/wp-content/uploads/2025/09/FSC-I-Financial-Foundations-English_Leslie-Texidor-Aleja.png
END:VEVENT
BEGIN:VEVENT
DTSTART;TZID=UTC:20250915T100000
DTEND;TZID=UTC:20250915T120000
DTSTAMP:20260419T183042
CREATED:20250902T201613Z
LAST-MODIFIED:20250902T201613Z
UID:10000049-1757930400-1757937600@lacasadedonpedro.org
SUMMARY:Senior Medicare Fraud Workshop
DESCRIPTION:
URL:https://lacasadedonpedro.org/event/senior-medicare-fraud-workshop/
LOCATION:Family Success Center I\, 23 Broadway\, Newark\, NJ\, 07104\, United States
CATEGORIES:Family Success Center
ATTACH;FMTTYPE=image/png:https://lacasadedonpedro.org/wp-content/uploads/2025/09/Senior-Medicare-Fraud-English.png
END:VEVENT
BEGIN:VEVENT
DTSTART;TZID=UTC:20250917T180000
DTEND;TZID=UTC:20250917T193000
DTSTAMP:20260419T183042
CREATED:20250902T201347Z
LAST-MODIFIED:20250902T201347Z
UID:10000048-1758132000-1758137400@lacasadedonpedro.org
SUMMARY:Landlord & Tenant Workshop
DESCRIPTION:
URL:https://lacasadedonpedro.org/event/landlord-tenant-workshop/
LOCATION:Family Success Center I\, 23 Broadway\, Newark\, NJ\, 07104\, United States
CATEGORIES:Family Success Center
ATTACH;FMTTYPE=image/png:https://lacasadedonpedro.org/wp-content/uploads/2025/09/Landlord_-Tenant-Workshop-English_Leslie-Texidor-Aleja.png
END:VEVENT
BEGIN:VEVENT
DTSTART;TZID=UTC:20250918T160000
DTEND;TZID=UTC:20250918T190000
DTSTAMP:20260419T183042
CREATED:20250630T200541Z
LAST-MODIFIED:20250630T200541Z
UID:10000037-1758211200-1758222000@lacasadedonpedro.org
SUMMARY:Farmers Market
DESCRIPTION:La Casa de Don Pedro is excited to announce the return of our North Ward Farmers Market\, coming back to Newark’s Lower Broadway neighborhood starting July 17th! \nFeaturing fresh produce and goods at great prices along with local vendors and community resources\, you definitely don’t want to miss this! See flyer for details and mark your calendars!
URL:https://lacasadedonpedro.org/event/farmers-market/2025-09-18/
LOCATION:El Patio de La Casa\, 43 Broadway\, Newark\, NJ\, 07104\, United States
ATTACH;FMTTYPE=image/png:https://lacasadedonpedro.org/wp-content/uploads/2025/06/LCDP-2025-Farmers-Market-Web-Flyer-scaled.png
END:VEVENT
BEGIN:VEVENT
DTSTART;TZID=UTC:20250924T180000
DTEND;TZID=UTC:20250924T200000
DTSTAMP:20260419T183042
CREATED:20250815T003056Z
LAST-MODIFIED:20250825T182308Z
UID:10000044-1758736800-1758744000@lacasadedonpedro.org
SUMMARY:An Evening with La Casa de Don Pedro
DESCRIPTION:Please save the date for our annual donor event\, “An Evening with La Casa de Don Pedro\,” scheduled for Wednesday\, September 24th\, at 6:00 PM. This year’s celebration will honor our longtime board member\, Richard Roper\, on his 80th birthday. \nThis year’s event will be ticketed and features sponsorship opportunities. Proceeds from the event will support our core programs\, ensuring our members continue to have access to the services they need. Additional details\, including ticket information and sponsorship packages\, will be shared soon. \nFor more information: https://lacasadedonpedro.org/an-evening-with-la-casa-de-don-pedro/
URL:https://lacasadedonpedro.org/event/an-evening-with-la-casa-de-don-pedro/
LOCATION:Nico Kitchen & Bar @ NJPAC\, One Center St\, Newark\, NJ\, 07102\, United States
ATTACH;FMTTYPE=image/png:https://lacasadedonpedro.org/wp-content/uploads/2025/08/An-Evening-with-La-Casa-2025-Hero.png
END:VEVENT
BEGIN:VEVENT
DTSTART;TZID=UTC:20250925T173000
DTEND;TZID=UTC:20250925T190000
DTSTAMP:20260419T183042
CREATED:20250902T202034Z
LAST-MODIFIED:20250902T202034Z
UID:10000050-1758821400-1758826800@lacasadedonpedro.org
SUMMARY:Strengthening Families Workshop
DESCRIPTION:
URL:https://lacasadedonpedro.org/event/strengthening-families-workshop/
LOCATION:Family Success Center I\, 23 Broadway\, Newark\, NJ\, 07104\, United States
CATEGORIES:Family Success Center
ATTACH;FMTTYPE=image/png:https://lacasadedonpedro.org/wp-content/uploads/2025/09/Strengthening-Families-Workshop-ENG_Leslie-Texidor-Aleja.png
END:VEVENT
BEGIN:VEVENT
DTSTART;TZID=UTC:20251003T143000
DTEND;TZID=UTC:20251003T173000
DTSTAMP:20260419T183042
CREATED:20250929T174445Z
LAST-MODIFIED:20251002T183425Z
UID:10000051-1759501800-1759512600@lacasadedonpedro.org
SUMMARY:Hispanic Heritage Month Celebration
DESCRIPTION:Celebrate #HispanicHeritageMonth with La Casa de Don Pedro this Friday\, October 3rd from 2:30pm-5:30pm at 23 Broadway! There’ll be live music\, entertainment\, delicious food and drinks\, and plenty of vendors and resources to go around. See flyer for details and bring the family out to celebrate #nuestraherencia.
URL:https://lacasadedonpedro.org/event/hispanic-heritage-month-celebration/
LOCATION:Family Success Center I\, 23 Broadway\, Newark\, NJ\, 07104\, United States
ATTACH;FMTTYPE=image/png:https://lacasadedonpedro.org/wp-content/uploads/2025/09/LCDP-2025-Hispanic-Heritage-Month-Celebration-Flyer_English-2-scaled.png
END:VEVENT
BEGIN:VEVENT
DTSTART;TZID=UTC:20251006T163000
DTEND;TZID=UTC:20251006T173000
DTSTAMP:20260419T183042
CREATED:20251002T201347Z
LAST-MODIFIED:20251002T201347Z
UID:10000054-1759768200-1759771800@lacasadedonpedro.org
SUMMARY:Homework Club
DESCRIPTION:Join us for a fun\, supportive space where kids learn\, work on homework\, and grow together!
URL:https://lacasadedonpedro.org/event/homework-club/
LOCATION:Family Success Center II\, 282 First Avenue\, Newark\, NJ\, United States
CATEGORIES:Family Success Center
ATTACH;FMTTYPE=image/png:https://lacasadedonpedro.org/wp-content/uploads/2025/10/Homework-Club-English-1.png
END:VEVENT
BEGIN:VEVENT
DTSTART;TZID=UTC:20251014T170000
DTEND;TZID=UTC:20251014T180000
DTSTAMP:20260419T183042
CREATED:20251002T201127Z
LAST-MODIFIED:20251002T201127Z
UID:10000053-1760461200-1760464800@lacasadedonpedro.org
SUMMARY:Money Matters: Simple Steps to Save and Budget
DESCRIPTION:
URL:https://lacasadedonpedro.org/event/money-matters-simple-steps-to-save-and-budget-2/
LOCATION:Family Success Center II\, 282 First Avenue\, Newark\, NJ\, United States
CATEGORIES:Family Success Center
ATTACH;FMTTYPE=image/png:https://lacasadedonpedro.org/wp-content/uploads/2025/10/FSC-II-Money-matters-English_Leslie-Texidor-Aleja.png
END:VEVENT
BEGIN:VEVENT
DTSTART;TZID=UTC:20251015T170000
DTEND;TZID=UTC:20251015T180000
DTSTAMP:20260419T183042
CREATED:20251002T200901Z
LAST-MODIFIED:20251002T200901Z
UID:10000052-1760547600-1760551200@lacasadedonpedro.org
SUMMARY:Money Matters: Simple Steps to Save and Budget
DESCRIPTION:Learn easy ways to manage your money\, start saving\, and stick to a budget.
URL:https://lacasadedonpedro.org/event/money-matters-simple-steps-to-save-and-budget/
LOCATION:Family Success Center I\, 23 Broadway\, Newark\, NJ\, 07104\, United States
CATEGORIES:Family Success Center
ATTACH;FMTTYPE=image/png:https://lacasadedonpedro.org/wp-content/uploads/2025/10/FSC-I-Money-matters-Engl-FSC-I_Leslie-Texidor-Aleja.png
END:VEVENT
BEGIN:VEVENT
DTSTART;TZID=UTC:20251022T180000
DTEND;TZID=UTC:20251022T193000
DTSTAMP:20260419T183042
CREATED:20251002T201658Z
LAST-MODIFIED:20251002T201658Z
UID:10000055-1761156000-1761161400@lacasadedonpedro.org
SUMMARY:Landlord & Tenant Workshop
DESCRIPTION:Join us for a workshop to help landlords and tenants learn their rights\, understand rental agreements\, and resolve disputes in a peaceful manner.
URL:https://lacasadedonpedro.org/event/landlord-tenant-workshop-2/
LOCATION:Family Success Center II\, 282 First Avenue\, Newark\, NJ\, United States
ATTACH;FMTTYPE=image/png:https://lacasadedonpedro.org/wp-content/uploads/2025/10/Landlord_-Tenant-Workshop-English_Leslie-Texidor-Aleja-1.png
END:VEVENT
BEGIN:VEVENT
DTSTART;TZID=UTC:20251022T180000
DTEND;TZID=UTC:20251022T200000
DTSTAMP:20260419T183042
CREATED:20251002T204510Z
LAST-MODIFIED:20251002T204510Z
UID:10000056-1761156000-1761163200@lacasadedonpedro.org
SUMMARY:Know Your Labor Rights Workshop
DESCRIPTION:  \nJoin us for an interactive workshop where you’ll learn all about labor rights in New Jersey. 
URL:https://lacasadedonpedro.org/event/know-your-labor-rights-workshop/
LOCATION:Family Success Center I\, 23 Broadway\, Newark\, NJ\, 07104\, United States
ATTACH;FMTTYPE=image/png:https://lacasadedonpedro.org/wp-content/uploads/2025/10/LCDP-Know-Your-Labor-Rights-Flyer_English.png
END:VEVENT
BEGIN:VEVENT
DTSTART;TZID=UTC:20251023T160000
DTEND;TZID=UTC:20251023T190000
DTSTAMP:20260419T183042
CREATED:20250929T173910Z
LAST-MODIFIED:20250929T174018Z
UID:10000038-1761235200-1761246000@lacasadedonpedro.org
SUMMARY:Farmers Market
DESCRIPTION:Please join us for our final Farmers Market of the year on Thursday\, October 23rd from 4pm-7pm at El Patio de La Casa (43 Broadway)! \nFeaturing fresh produce and goods at great prices along with local vendors and community resources\, you definitely don’t want to miss this! See flyer for details and mark your calendars!
URL:https://lacasadedonpedro.org/event/farmers-market-2/
LOCATION:El Patio de La Casa\, 43 Broadway\, Newark\, NJ\, 07104\, United States
ATTACH;FMTTYPE=image/png:https://lacasadedonpedro.org/wp-content/uploads/2025/06/LCDP-Oct-2025-Farmers-Market-Flyer-scaled.png
END:VEVENT
BEGIN:VEVENT
DTSTART;TZID=UTC:20251105T100000
DTEND;TZID=UTC:20251105T130000
DTSTAMP:20260419T183042
CREATED:20251027T190748Z
LAST-MODIFIED:20251027T190748Z
UID:10000063-1762336800-1762347600@lacasadedonpedro.org
SUMMARY:NJ FamilyCare Enrollment Workshop
DESCRIPTION:Join us to receive assistance in applying for NJ FamilyCare’s health insurance program.
URL:https://lacasadedonpedro.org/event/nj-familycare-enrollment-workshop/
LOCATION:Family Success Center II\, 282 First Avenue\, Newark\, NJ\, United States
CATEGORIES:Family Success Center
ATTACH;FMTTYPE=image/png:https://lacasadedonpedro.org/wp-content/uploads/2025/10/NJ-Family-Care-English_Leslie-Texidor-Aleja.png
END:VEVENT
BEGIN:VEVENT
DTSTART;TZID=UTC:20251105T180000
DTEND;TZID=UTC:20251105T193000
DTSTAMP:20260419T183042
CREATED:20251027T183806Z
LAST-MODIFIED:20251027T183806Z
UID:10000057-1762365600-1762371000@lacasadedonpedro.org
SUMMARY:How to Obtain an I.T.I.N Workshop
DESCRIPTION:Learn what an Individual Taxpayer Identification Number (ITIN) is and the benefits that come along with it\nSet an appointment for assistance filling out Form W-7 (Application for ITIN)\nGet help renewing your ITIN\nAdditional resources and assistance available
URL:https://lacasadedonpedro.org/event/how-to-obtain-an-i-t-i-n-workshop/
LOCATION:23 Broadway\, 23 Broadway\, Newark\, NJ\, 07104\, United States
ATTACH;FMTTYPE=image/png:https://lacasadedonpedro.org/wp-content/uploads/2025/10/ITIN-Informational-Workshop-Flyer_English.png
END:VEVENT
BEGIN:VEVENT
DTSTART;TZID=UTC:20251107T100000
DTEND;TZID=UTC:20251107T130000
DTSTAMP:20260419T183042
CREATED:20251027T184321Z
LAST-MODIFIED:20251027T184321Z
UID:10000058-1762509600-1762520400@lacasadedonpedro.org
SUMMARY:NJ FamilyCare (Medicaid) Enrollment Workshop
DESCRIPTION:Join us to receive assistance in applying for NJ FamilyCare’s health insurance program.
URL:https://lacasadedonpedro.org/event/nj-familycare-medicaid-enrollment-workshop/
LOCATION:23 Broadway\, 23 Broadway\, Newark\, NJ\, 07104\, United States
CATEGORIES:Family Success Center
ATTACH;FMTTYPE=image/png:https://lacasadedonpedro.org/wp-content/uploads/2025/10/Nj-Family-Care-Enrollment-English-FSC-I_Leslie-Texidor-Aleja.png
END:VEVENT
BEGIN:VEVENT
DTSTART;TZID=UTC:20251112T110000
DTEND;TZID=UTC:20251112T120000
DTSTAMP:20260419T183042
CREATED:20251027T185241Z
LAST-MODIFIED:20251027T185241Z
UID:10000060-1762945200-1762948800@lacasadedonpedro.org
SUMMARY:Foster Care Workshop
DESCRIPTION:Thinking about becoming a foster parent? Join us for a special workshop where we’ll teach you what you need to know to get started! See flyer for details.
URL:https://lacasadedonpedro.org/event/foster-care-workshop-3/
LOCATION:Family Success Center II\, 282 First Avenue\, Newark\, NJ\, United States
CATEGORIES:Family Success Center
ATTACH;FMTTYPE=image/png:https://lacasadedonpedro.org/wp-content/uploads/2025/10/Foster-care-workshop-ENG_Leslie-Texidor-Aleja.png
END:VEVENT
BEGIN:VEVENT
DTSTART;TZID=UTC:20251113T180000
DTEND;TZID=UTC:20251113T193000
DTSTAMP:20260419T183042
CREATED:20251027T184709Z
LAST-MODIFIED:20251027T184709Z
UID:10000059-1763056800-1763062200@lacasadedonpedro.org
SUMMARY:Landlord & Tenant Workshop
DESCRIPTION:Join us on November 13th from 6pm-7:30pm at 23 Broadway for a workshop to help landlords and tenants learn their rights\, understand rental agreements\, and resolve disputes in a peaceful manner.
URL:https://lacasadedonpedro.org/event/landlord-tenant-workshop-3/
LOCATION:23 Broadway\, 23 Broadway\, Newark\, NJ\, 07104\, United States
CATEGORIES:Family Success Center
ATTACH;FMTTYPE=image/png:https://lacasadedonpedro.org/wp-content/uploads/2025/10/Landlord_-Tenant-Workshop-English_Leslie-Texidor-Aleja-2.png
END:VEVENT
BEGIN:VEVENT
DTSTART;TZID=UTC:20251124T150000
DTEND;TZID=UTC:20251124T163000
DTSTAMP:20260419T183042
CREATED:20251027T190154Z
LAST-MODIFIED:20251027T190154Z
UID:10000062-1763996400-1764001800@lacasadedonpedro.org
SUMMARY:Homework Club
DESCRIPTION:Join us for a fun\, supportive space where kids learn\, work on homework\, and grow together!
URL:https://lacasadedonpedro.org/event/homework-club-2/
LOCATION:Family Success Center II\, 282 First Avenue\, Newark\, NJ\, United States
CATEGORIES:Family Success Center
ATTACH;FMTTYPE=image/png:https://lacasadedonpedro.org/wp-content/uploads/2025/10/Homework-club-English_Leslie-Texidor-Aleja-1.png
END:VEVENT
BEGIN:VEVENT
DTSTART;TZID=UTC:20251125T170000
DTEND;TZID=UTC:20251125T180000
DTSTAMP:20260419T183042
CREATED:20251027T185758Z
LAST-MODIFIED:20251027T185758Z
UID:10000061-1764090000-1764093600@lacasadedonpedro.org
SUMMARY:Credit Confidence Workshop
DESCRIPTION:  \nLearn how to build strong credit and secure your financial future at our Credit Confidence Workshop!
URL:https://lacasadedonpedro.org/event/credit-confidence-workshop/
LOCATION:Family Success Center II\, 282 First Avenue\, Newark\, NJ\, United States
CATEGORIES:Family Success Center
ATTACH;FMTTYPE=image/png:https://lacasadedonpedro.org/wp-content/uploads/2025/10/FSC-II-Credit-Confidence-Workshop-English_Leslie-Texidor-Aleja.png
END:VEVENT
BEGIN:VEVENT
DTSTART;TZID=UTC:20251210T110000
DTEND;TZID=UTC:20251210T123000
DTSTAMP:20260419T183042
CREATED:20251209T192844Z
LAST-MODIFIED:20251209T192844Z
UID:10000064-1765364400-1765369800@lacasadedonpedro.org
SUMMARY:Safety in the Home Workshop
DESCRIPTION: 
URL:https://lacasadedonpedro.org/event/safety-in-the-home-workshop/
LOCATION:Family Success Center I\, 23 Broadway\, Newark\, NJ\, 07104\, United States
CATEGORIES:Family Success Center
ATTACH;FMTTYPE=image/png:https://lacasadedonpedro.org/wp-content/uploads/2025/12/SAFETY-IN-THE-HOME-eng_Leslie-Texidor-Aleja.png
END:VEVENT
BEGIN:VEVENT
DTSTART;TZID=UTC:20251211T110000
DTEND;TZID=UTC:20251211T123000
DTSTAMP:20260419T183042
CREATED:20251209T193159Z
LAST-MODIFIED:20251209T193159Z
UID:10000065-1765450800-1765456200@lacasadedonpedro.org
SUMMARY:Coping Techniques for the Holidays
DESCRIPTION:
URL:https://lacasadedonpedro.org/event/coping-techniques-for-the-holidays/
LOCATION:Family Success Center I\, 23 Broadway\, Newark\, NJ\, 07104\, United States
CATEGORIES:Family Success Center
ATTACH;FMTTYPE=image/png:https://lacasadedonpedro.org/wp-content/uploads/2025/12/Coping-Techniques-for-the-holidays-ENG_Leslie-Texidor-Aleja.png
END:VEVENT
BEGIN:VEVENT
DTSTART;TZID=UTC:20251216T170000
DTEND;TZID=UTC:20251216T180000
DTSTAMP:20260419T183042
CREATED:20251209T193747Z
LAST-MODIFIED:20251209T193747Z
UID:10000066-1765904400-1765908000@lacasadedonpedro.org
SUMMARY:Debt Reduction Blueprint Workshop
DESCRIPTION:
URL:https://lacasadedonpedro.org/event/debt-reduction-blueprint-workshop/
LOCATION:Family Success Center II\, 282 First Avenue\, Newark\, NJ\, United States
CATEGORIES:Family Success Center
ATTACH;FMTTYPE=image/png:https://lacasadedonpedro.org/wp-content/uploads/2025/12/FSC-II-debt-reduction-blue-print_-your-guide_Leslie-Texidor-Aleja.png
END:VEVENT
BEGIN:VEVENT
DTSTART;TZID=UTC:20251217T110000
DTEND;TZID=UTC:20251217T120000
DTSTAMP:20260419T183042
CREATED:20251209T193918Z
LAST-MODIFIED:20251209T193918Z
UID:10000067-1765969200-1765972800@lacasadedonpedro.org
SUMMARY:Foster Care Workshop
DESCRIPTION:
URL:https://lacasadedonpedro.org/event/foster-care-workshop-4/
LOCATION:Family Success Center II\, 282 First Avenue\, Newark\, NJ\, United States
CATEGORIES:Family Success Center
ATTACH;FMTTYPE=image/png:https://lacasadedonpedro.org/wp-content/uploads/2025/12/Foster-care-workshop-eng_Leslie-Texidor-Aleja-1.png
END:VEVENT
END:VCALENDAR