BEGIN:VCALENDAR
VERSION:2.0
PRODID:-//La Casa de Don Pedro - ECPv6.15.20//NONSGML v1.0//EN
CALSCALE:GREGORIAN
METHOD:PUBLISH
X-WR-CALNAME:La Casa de Don Pedro
X-ORIGINAL-URL:https://lacasadedonpedro.org
X-WR-CALDESC:Events for La Casa de Don Pedro
REFRESH-INTERVAL;VALUE=DURATION:PT1H
X-Robots-Tag:noindex
X-PUBLISHED-TTL:PT1H
BEGIN:VTIMEZONE
TZID:UTC
BEGIN:STANDARD
TZOFFSETFROM:+0000
TZOFFSETTO:+0000
TZNAME:UTC
DTSTART:20250101T000000
END:STANDARD
END:VTIMEZONE
BEGIN:VEVENT
DTSTART;TZID=UTC:20260128T110000
DTEND;TZID=UTC:20260128T130000
DTSTAMP:20260420T073201
CREATED:20260105T203608Z
LAST-MODIFIED:20260105T203608Z
UID:10000071-1769598000-1769605200@lacasadedonpedro.org
SUMMARY:Mommy & Me Maternal Health Workshop
DESCRIPTION:Join our Mommy & Me Maternal Health Workshop! Learn helpful tips for moms and babies in a supportive\, friendly space.
URL:https://lacasadedonpedro.org/event/mommy-me-maternal-health-workshop/
LOCATION:Family Success Center I\, 23 Broadway\, Newark\, NJ\, 07104\, United States
CATEGORIES:Family Success Center
ATTACH;FMTTYPE=image/png:https://lacasadedonpedro.org/wp-content/uploads/2026/01/MOMMY-ME-MATERNAL-HEALTH-WORKSHOP-eng_Leslie-Texidor-Aleja.png
END:VEVENT
BEGIN:VEVENT
DTSTART;TZID=UTC:20260129T150000
DTEND;TZID=UTC:20260129T163000
DTSTAMP:20260420T073201
CREATED:20260105T201502Z
LAST-MODIFIED:20260105T201502Z
UID:10000068-1769698800-1769704200@lacasadedonpedro.org
SUMMARY:Vision Board Workshop
DESCRIPTION:Kick off the New Year with our Vision Board Workshop! Set your goals\, get inspired\, and visualize your best year yet.
URL:https://lacasadedonpedro.org/event/vision-board-workshop/
LOCATION:Family Success Center II\, 282 First Avenue\, Newark\, NJ\, United States
CATEGORIES:Family Success Center
ATTACH;FMTTYPE=image/png:https://lacasadedonpedro.org/wp-content/uploads/2026/01/VISION-BOARD-ENGL_Leslie-Texidor-Aleja.png
END:VEVENT
BEGIN:VEVENT
DTSTART;TZID=UTC:20260202T113000
DTEND;TZID=UTC:20260202T143000
DTSTAMP:20260420T073201
CREATED:20260129T214605Z
LAST-MODIFIED:20260129T214605Z
UID:10000077-1770031800-1770042600@lacasadedonpedro.org
SUMMARY:SNAP Enrollment Workshop
DESCRIPTION:Need help applying for SNAP benefits? Have questions about eligibility? Join us on Monday\, February 2nd from 11:30am-2:30pm at 282 First Ave for assistance.
URL:https://lacasadedonpedro.org/event/snap-enrollment-workshop/
LOCATION:Family Success Center II\, 282 First Avenue\, Newark\, NJ\, United States
CATEGORIES:Family Success Center
ATTACH;FMTTYPE=image/png:https://lacasadedonpedro.org/wp-content/uploads/2026/01/Snap-Enrollment-ENG_Leslie-Texidor-Aleja.png
END:VEVENT
BEGIN:VEVENT
DTSTART;TZID=UTC:20260203T100000
DTEND;TZID=UTC:20260203T130000
DTSTAMP:20260420T073201
CREATED:20260129T215641Z
LAST-MODIFIED:20260129T215641Z
UID:10000081-1770112800-1770123600@lacasadedonpedro.org
SUMMARY:NJ FamilyCare Enrollment Workshop
DESCRIPTION:Need help applying for NJ FamilyCare’s free health insurance plans? Join us on February 3rd from 10am-1pm at 23 Broadway for assistance.
URL:https://lacasadedonpedro.org/event/nj-familycare-enrollment-workshop-2/
LOCATION:Family Success Center I\, 23 Broadway\, Newark\, NJ\, 07104\, United States
CATEGORIES:Family Success Center
ATTACH;FMTTYPE=image/png:https://lacasadedonpedro.org/wp-content/uploads/2026/01/Nj-Family-Care-Enrollment-English_Leslie-Texidor-Aleja.png
END:VEVENT
BEGIN:VEVENT
DTSTART;TZID=UTC:20260205T173000
DTEND;TZID=UTC:20260205T183000
DTSTAMP:20260420T073201
CREATED:20260129T211608Z
LAST-MODIFIED:20260129T211608Z
UID:10000075-1770312600-1770316200@lacasadedonpedro.org
SUMMARY:Prudential Community Grants Technical Assistance Workshop
DESCRIPTION:If you’re a Newark resident\, nonprofit organization or small business with an idea for a project to enhance community vitality\, the Prudential Community Grants Program may be the perfect fit for you! \nFor more info or to apply\, visit https://cfnj.org/prudential/. Applications close Friday\, February 20th so don’t wait. If you have further questions\, La Casa de Don Pedro will be hosting a Technical Assistance Workshop on Thursday\, February 5th from 5:30pm-6:30pm at 23 Broadway.
URL:https://lacasadedonpedro.org/event/prudential-community-grants-technical-assistance-workshop/
LOCATION:23 Broadway\, 23 Broadway\, Newark\, NJ\, 07104\, United States
ATTACH;FMTTYPE=image/png:https://lacasadedonpedro.org/wp-content/uploads/2026/01/Prudential-Community-Grants-Flyer_Eng.png
END:VEVENT
BEGIN:VEVENT
DTSTART;TZID=UTC:20260205T180000
DTEND;TZID=UTC:20260205T193000
DTSTAMP:20260420T073201
CREATED:20260129T215201Z
LAST-MODIFIED:20260129T215201Z
UID:10000079-1770314400-1770319800@lacasadedonpedro.org
SUMMARY:Landlord & Tenant Workshop
DESCRIPTION:Join us for a special workshop on Landlord & Tenant rights. \n 
URL:https://lacasadedonpedro.org/event/landlord-tenant-workshop-4/2026-02-05/
LOCATION:Family Success Center I\, 23 Broadway\, Newark\, NJ\, 07104\, United States
CATEGORIES:Family Success Center
ATTACH;FMTTYPE=image/png:https://lacasadedonpedro.org/wp-content/uploads/2026/01/landlord-tenant-workshop-ENG_Leslie-Texidor-Aleja.png
END:VEVENT
BEGIN:VEVENT
DTSTART;TZID=UTC:20260209T113000
DTEND;TZID=UTC:20260209T133000
DTSTAMP:20260420T073201
CREATED:20260129T214850Z
LAST-MODIFIED:20260129T214850Z
UID:10000078-1770636600-1770643800@lacasadedonpedro.org
SUMMARY:Job Searching Workshop
DESCRIPTION:Join us on Monday\, February 9th from 11:30am-1:30pm at 23 Broadway for support with your job search!
URL:https://lacasadedonpedro.org/event/job-searching-workshop-2/
LOCATION:Family Success Center I\, 23 Broadway\, Newark\, NJ\, 07104\, United States
CATEGORIES:Family Success Center
ATTACH;FMTTYPE=image/png:https://lacasadedonpedro.org/wp-content/uploads/2026/01/Job-Searching-English_Leslie-Texidor-Aleja.png
END:VEVENT
BEGIN:VEVENT
DTSTART;TZID=UTC:20260219T110000
DTEND;TZID=UTC:20260219T130000
DTSTAMP:20260420T073201
CREATED:20260129T214309Z
LAST-MODIFIED:20260129T214309Z
UID:10000076-1771498800-1771506000@lacasadedonpedro.org
SUMMARY:Job Searching Workshop
DESCRIPTION:Join us on Thursday\, February 19th from 11:00am-1:00pm at 282 First Ave for support with your job search!
URL:https://lacasadedonpedro.org/event/job-searching-workshop/
LOCATION:Family Success Center II\, 282 First Avenue\, Newark\, NJ\, United States
CATEGORIES:Family Success Center
ATTACH;FMTTYPE=image/png:https://lacasadedonpedro.org/wp-content/uploads/2026/01/Job-Searching-English-282_Leslie-Texidor-Aleja.png
END:VEVENT
BEGIN:VEVENT
DTSTART;TZID=UTC:20260226T110000
DTEND;TZID=UTC:20260226T140000
DTSTAMP:20260420T073201
CREATED:20260129T215201Z
LAST-MODIFIED:20260129T215201Z
UID:10000080-1772103600-1772114400@lacasadedonpedro.org
SUMMARY:Landlord & Tenant Workshop
DESCRIPTION:Join us for a special workshop on Landlord & Tenant rights. \n 
URL:https://lacasadedonpedro.org/event/landlord-tenant-workshop-4/2026-02-26/
LOCATION:Family Success Center I\, 23 Broadway\, Newark\, NJ\, 07104\, United States
CATEGORIES:Family Success Center
ATTACH;FMTTYPE=image/png:https://lacasadedonpedro.org/wp-content/uploads/2026/01/landlord-tenant-workshop-ENG_Leslie-Texidor-Aleja.png
END:VEVENT
BEGIN:VEVENT
DTSTART;TZID=UTC:20260227T180000
DTEND;TZID=UTC:20260227T200000
DTSTAMP:20260420T073201
CREATED:20260219T164213Z
LAST-MODIFIED:20260219T164213Z
UID:10000082-1772215200-1772222400@lacasadedonpedro.org
SUMMARY:Black History Month "Dream Big" Celebration
DESCRIPTION:Celebrate Black History Month with La Casa de Don Pedro at our “Dream Big” Celebration on Friday\, February 27th from 6pm-8pm at 23 Broadway. All are welcome. See flyer for details. \n 
URL:https://lacasadedonpedro.org/event/black-history-month-dream-big-celebration/
LOCATION:Family Success Center I\, 23 Broadway\, Newark\, NJ\, 07104\, United States
CATEGORIES:Family Success Center
ATTACH;FMTTYPE=image/png:https://lacasadedonpedro.org/wp-content/uploads/2026/02/Black-History-Month-Celebration-2026-ENGL.png
END:VEVENT
BEGIN:VEVENT
DTSTART;TZID=UTC:20260310T110000
DTEND;TZID=UTC:20260310T130000
DTSTAMP:20260420T073201
CREATED:20260309T195934Z
LAST-MODIFIED:20260309T195934Z
UID:10000083-1773140400-1773147600@lacasadedonpedro.org
SUMMARY:Job Readiness Workshop
DESCRIPTION:This workshop is designed to assist individuals with essential “soft skills” like communication\, punctuality\, teamwork & practical job-seeking skills such as resume writing and mock interviews.
URL:https://lacasadedonpedro.org/event/job-readiness-workshop-2/
LOCATION:Newark Broadway\, 23 Broadway\, Newark\, 07104
ATTACH;FMTTYPE=image/png:https://lacasadedonpedro.org/wp-content/uploads/2026/03/Job-Readiness-MARCH-2026_Fern-Isom-Majette.png
END:VEVENT
BEGIN:VEVENT
DTSTART;TZID=UTC:20260311T110000
DTEND;TZID=UTC:20260311T130000
DTSTAMP:20260420T073201
CREATED:20260309T201807Z
LAST-MODIFIED:20260309T201807Z
UID:10000087-1773226800-1773234000@lacasadedonpedro.org
SUMMARY:Foster Care Workshop
DESCRIPTION:Come join La Casa’s FSC II for a workshop how to become a foster parent to children in need of a loving and caring home.
URL:https://lacasadedonpedro.org/event/foster-care-workshop-5/
LOCATION:Newark Broadway\, 23 Broadway\, Newark\, 07104
ATTACH;FMTTYPE=image/png:https://lacasadedonpedro.org/wp-content/uploads/2026/03/Foster-Care-Workshop-3-2026-ENGL_Fern-Isom-Majette.png
END:VEVENT
BEGIN:VEVENT
DTSTART;TZID=UTC:20260312T180000
DTEND;TZID=UTC:20260312T193000
DTSTAMP:20260420T073201
CREATED:20260309T200515Z
LAST-MODIFIED:20260309T200515Z
UID:10000084-1773338400-1773343800@lacasadedonpedro.org
SUMMARY:Landlord & Tenant Seminar
DESCRIPTION:Come know and learn your rights as tenant in NJ. Essex-Newark Legal Services will be conducting the workshop.
URL:https://lacasadedonpedro.org/event/landlord-tenant-seminar-2/
LOCATION:Newark Broadway\, 23 Broadway\, Newark\, 07104
ATTACH;FMTTYPE=image/png:https://lacasadedonpedro.org/wp-content/uploads/2026/03/Landlord-Tenant-Workshop-Evening-Daytime_Fern-Isom-Majette.png
END:VEVENT
BEGIN:VEVENT
DTSTART;TZID=UTC:20260313T150000
DTEND;TZID=UTC:20260313T163000
DTSTAMP:20260420T073201
CREATED:20260309T201933Z
LAST-MODIFIED:20260311T044128Z
UID:10000088-1773414000-1773419400@lacasadedonpedro.org
SUMMARY:St. Patrick's Day Arts & Crafts (FSC II)
DESCRIPTION:Come join La Casa’s FSC II as we celebrate St. Patrick’s Day by making arts & crafts for enjoyment.
URL:https://lacasadedonpedro.org/event/st-patricks-day-arts-crafts-fsc-ii/
LOCATION:FSC II\, 282 First Ave\, Newark\, NJ\, United States
ATTACH;FMTTYPE=image/png:https://lacasadedonpedro.org/wp-content/uploads/2026/03/St.-Patricks-Day-Arts-Crafts-FSC-II-3-2026_Fern-Isom-Majette.png
END:VEVENT
BEGIN:VEVENT
DTSTART;TZID=UTC:20260316T153000
DTEND;TZID=UTC:20260316T170000
DTSTAMP:20260420T073201
CREATED:20260309T201548Z
LAST-MODIFIED:20260309T201548Z
UID:10000086-1773675000-1773680400@lacasadedonpedro.org
SUMMARY:Saint Patrick's Day Arts & Crafts (FSC I)
DESCRIPTION:Come join La Casa as we celebrate St. Patrick’s Day by creating arts & crafts.
URL:https://lacasadedonpedro.org/event/saint-patricks-day-arts-crafts-fsc-i/
LOCATION:Newark Broadway\, 23 Broadway\, Newark\, 07104
ATTACH;FMTTYPE=image/png:https://lacasadedonpedro.org/wp-content/uploads/2026/03/St-Patricks-Day-Arts-Crafts-3-2026-English_Fern-Isom-Majette.png
END:VEVENT
BEGIN:VEVENT
DTSTART;TZID=UTC:20260320T113000
DTEND;TZID=UTC:20260320T143000
DTSTAMP:20260420T073201
CREATED:20260309T201258Z
LAST-MODIFIED:20260309T201258Z
UID:10000085-1774006200-1774017000@lacasadedonpedro.org
SUMMARY:Women's Health Fair & Workshop
DESCRIPTION:Come join La Casa de Don Pedro\, Inc. Women’s Health Fair & Workshop as we honor Women’s History Month. Come receive free health screenings\, workshop information\, resources\, giveaways & more…
URL:https://lacasadedonpedro.org/event/womens-health-fair-workshop/
LOCATION:Newark Broadway\, 23 Broadway\, Newark\, 07104
ATTACH;FMTTYPE=image/png:https://lacasadedonpedro.org/wp-content/uploads/2026/03/Womens-Health-Fair-Worshop-3-2026-Eng_Fern-Isom-Majette.png
END:VEVENT
BEGIN:VEVENT
DTSTART;TZID=UTC:20260327T150000
DTEND;TZID=UTC:20260327T163000
DTSTAMP:20260420T073201
CREATED:20260309T202210Z
LAST-MODIFIED:20260309T202210Z
UID:10000089-1774623600-1774629000@lacasadedonpedro.org
SUMMARY:Family Crochet Creations
DESCRIPTION:Come join La Casa with technique of crocheting as we create beautiful items to wear or to give to a loved one.
URL:https://lacasadedonpedro.org/event/family-crochet-creations/
LOCATION:Newark Broadway\, 23 Broadway\, Newark\, 07104
ATTACH;FMTTYPE=image/png:https://lacasadedonpedro.org/wp-content/uploads/2026/03/Family-Crochet-Club-3-2026-English_Fern-Isom-Majette.png
END:VEVENT
BEGIN:VEVENT
DTSTART;TZID=UTC:20260421T150000
DTEND;TZID=UTC:20260421T163000
DTSTAMP:20260420T073201
CREATED:20260331T201735Z
LAST-MODIFIED:20260331T201735Z
UID:10000091-1776783600-1776789000@lacasadedonpedro.org
SUMMARY:Recognizing the Warning signs of child Abuse and neglect
DESCRIPTION:Learn to identify early signs that may indicate a child is suffering abuse or neglect. Also\, we have the partner New Jersey Department Of Children and Families
URL:https://lacasadedonpedro.org/event/recognizing-the-warning-signs-of-child-abuse-and-neglect/
LOCATION:Newark Broadway\, 23 Broadway\, Newark\, 07104
CATEGORIES:Family Success Center
ATTACH;FMTTYPE=image/png:https://lacasadedonpedro.org/wp-content/uploads/2026/03/Recognizing-the-warning-signs-of-child-abuse_Angie-Llanos-Espinos.png
END:VEVENT
BEGIN:VEVENT
DTSTART;TZID=UTC:20260424T160000
DTEND;TZID=UTC:20260424T190000
DTSTAMP:20260420T073201
CREATED:20260331T184034Z
LAST-MODIFIED:20260415T155657Z
UID:10000090-1777046400-1777057200@lacasadedonpedro.org
SUMMARY:Autism Acceptance Festival
DESCRIPTION:As we celebrate #AutismAwarenessMonth\, we’re pleased to announce this year’s Autism Acceptance Festival is returning to La Casa de Don Pedro on Friday\, April 24th from 4pm-7pm at El Patio de La Casa (43 Broadway\, Newark\, NJ 07104). This year’s event is free and open to all and features… \n* Petting Zoo\n* Sensory Activities\n* Info/Resources for Parents and Caregivers\n* Light Refreshments and Treats \nRegister today for FREE at tinyurl.com/LaCasaFSCReg. \nFree parking is available at 305 Broad St\, Newark\, NJ. Spread the word and don’t miss out!
URL:https://lacasadedonpedro.org/event/autism-acceptance-festival/
LOCATION:El Patio de La Casa\, 43 Broadway\, Newark\, NJ\, 07104\, United States
CATEGORIES:Family Success Center
ATTACH;FMTTYPE=image/png:https://lacasadedonpedro.org/wp-content/uploads/2026/03/AUTISM-FESTIVAL-ENGL_Angie-Llanos-Espinos.png
END:VEVENT
BEGIN:VEVENT
DTSTART;TZID=UTC:20260502T120000
DTEND;TZID=UTC:20260502T150000
DTSTAMP:20260420T073201
CREATED:20260414T162424Z
LAST-MODIFIED:20260415T201251Z
UID:10000092-1777723200-1777734000@lacasadedonpedro.org
SUMMARY:Pre-Mothers Day Luncheon
DESCRIPTION:As we celebrate the incredible women who nurture and support our families\, we’re excited to invite you to our Pre-Mother’s Day Luncheon at La Casa de Don Pedro!\n\nJoin us on Saturday\, May 2\, 2026 from 12:00 PM – 3:00 PM at our Family Success Center I (23 Broadway\, Newark\, NJ) as we honor mothers\, expectant mothers\, and all those who step into the role of caregiver.\nThis special event is free and open to the community and will feature:\n\nFree lunch\nMusic & raffles\nResources & information for families\nA welcoming space to celebrate and connect\n\nRegister today for FREE at tinyurl.com/LaCasaFSCReg.\n\nCome celebrate\, connect\, and be appreciated; you deserve it!\n 
URL:https://lacasadedonpedro.org/event/pre-mothers-day-luncheon/
LOCATION:Newark Broadway\, 23 Broadway\, Newark\, 07104
CATEGORIES:Family Success Center
ATTACH;FMTTYPE=image/png:https://lacasadedonpedro.org/wp-content/uploads/2026/04/Mothers-Day-Luncheon-2026.png
END:VEVENT
END:VCALENDAR